BEGIN:VCALENDAR
VERSION:2.0
PRODID:-//Waseca-Le Sueur Library - ECPv6.15.20//NONSGML v1.0//EN
CALSCALE:GREGORIAN
METHOD:PUBLISH
X-WR-CALNAME:Waseca-Le Sueur Library
X-ORIGINAL-URL:https://wasecalesueurlibraries.com
X-WR-CALDESC:Events for Waseca-Le Sueur Library
REFRESH-INTERVAL;VALUE=DURATION:PT1H
X-Robots-Tag:noindex
X-PUBLISHED-TTL:PT1H
BEGIN:VTIMEZONE
TZID:America/Chicago
BEGIN:DAYLIGHT
TZOFFSETFROM:-0600
TZOFFSETTO:-0500
TZNAME:CDT
DTSTART:20230312T080000
END:DAYLIGHT
BEGIN:STANDARD
TZOFFSETFROM:-0500
TZOFFSETTO:-0600
TZNAME:CST
DTSTART:20231105T070000
END:STANDARD
BEGIN:DAYLIGHT
TZOFFSETFROM:-0600
TZOFFSETTO:-0500
TZNAME:CDT
DTSTART:20240310T080000
END:DAYLIGHT
BEGIN:STANDARD
TZOFFSETFROM:-0500
TZOFFSETTO:-0600
TZNAME:CST
DTSTART:20241103T070000
END:STANDARD
BEGIN:DAYLIGHT
TZOFFSETFROM:-0600
TZOFFSETTO:-0500
TZNAME:CDT
DTSTART:20250309T080000
END:DAYLIGHT
BEGIN:STANDARD
TZOFFSETFROM:-0500
TZOFFSETTO:-0600
TZNAME:CST
DTSTART:20251102T070000
END:STANDARD
END:VTIMEZONE
BEGIN:VEVENT
DTSTART;TZID=America/Chicago:20240228T130000
DTEND;TZID=America/Chicago:20240228T140000
DTSTAMP:20260424T182304
CREATED:20240126T220238Z
LAST-MODIFIED:20240126T220238Z
UID:10010585-1709125200-1709128800@wasecalesueurlibraries.com
SUMMARY:Author Event: Kim Scott
DESCRIPTION:Why is feedback so difficult\, and how can we make it easier? The idea is simple: You don’t have to choose between being a pushover and a jerk. Kim Scott\, author of Radical Candor\, will explain the Radical Candor feedback framework and how you can practice it today. \nRegister now. \nThese events are made possible by the voters of Minnesota through a grant provided by the Traverse des Sioux Library Cooperative\, thanks to a legislative appropriation from the arts and cultural heritage fund.
URL:https://wasecalesueurlibraries.com/event/author-event-kim-scott/
LOCATION:Virtual Event\, MN\, United States
CATEGORIES:Adult Events,Author Event
END:VEVENT
BEGIN:VEVENT
DTSTART;TZID=America/Chicago:20240228T160000
DTEND;TZID=America/Chicago:20240228T170000
DTSTAMP:20260424T182304
CREATED:20230705T164632Z
LAST-MODIFIED:20240501T173441Z
UID:10010214-1709136000-1709139600@wasecalesueurlibraries.com
SUMMARY:Romp and Rhyme Story Time
DESCRIPTION:Waldorf Public Library holds Romp and Rhyme story times on Wednesdays at 3 pm. From puppets to pumping music\, from bubble machines to banging bands\, these are not your average story time. The Library uses movement\, STEAM activities\, curiosity\, imaginative play\, and active learning to keep kids engaged. Free and open to the public.
URL:https://wasecalesueurlibraries.com/event/romp-and-rhyme-story-time-81/2024-02-28/
LOCATION:Waldorf Public Library\, 119 S Main St\, Waldorf\, MN\, 56091\, United States
CATEGORIES:Children's Events,Story Times
GEO:43.9365286;-93.697592
X-APPLE-STRUCTURED-LOCATION;VALUE=URI;X-ADDRESS=Waldorf Public Library 119 S Main St Waldorf MN 56091 United States;X-APPLE-RADIUS=500;X-TITLE=119 S Main St:geo:-93.697592,43.9365286
END:VEVENT
BEGIN:VEVENT
DTSTART;TZID=America/Chicago:20240228T160000
DTEND;TZID=America/Chicago:20240228T170000
DTSTAMP:20260424T182304
CREATED:20240129T220012Z
LAST-MODIFIED:20240129T220012Z
UID:10008565-1709136000-1709139600@wasecalesueurlibraries.com
SUMMARY:Animal Art
DESCRIPTION:Calling all animal lovers! Create a one-of-a-kind animal with vibrant patterns and colors. Ages 8-12.
URL:https://wasecalesueurlibraries.com/event/animal-art-3/
LOCATION:Waldorf Public Library\, 119 S Main St\, Waldorf\, MN\, 56091\, United States
CATEGORIES:Children's Events
GEO:43.9365286;-93.697592
X-APPLE-STRUCTURED-LOCATION;VALUE=URI;X-ADDRESS=Waldorf Public Library 119 S Main St Waldorf MN 56091 United States;X-APPLE-RADIUS=500;X-TITLE=119 S Main St:geo:-93.697592,43.9365286
END:VEVENT
END:VCALENDAR