BEGIN:VCALENDAR
VERSION:2.0
PRODID:-//Waseca-Le Sueur Library - ECPv6.15.18//NONSGML v1.0//EN
CALSCALE:GREGORIAN
METHOD:PUBLISH
X-WR-CALNAME:Waseca-Le Sueur Library
X-ORIGINAL-URL:https://wasecalesueurlibraries.com
X-WR-CALDESC:Events for Waseca-Le Sueur Library
REFRESH-INTERVAL;VALUE=DURATION:PT1H
X-Robots-Tag:noindex
X-PUBLISHED-TTL:PT1H
BEGIN:VTIMEZONE
TZID:America/Chicago
BEGIN:DAYLIGHT
TZOFFSETFROM:-0600
TZOFFSETTO:-0500
TZNAME:CDT
DTSTART:20220313T080000
END:DAYLIGHT
BEGIN:STANDARD
TZOFFSETFROM:-0500
TZOFFSETTO:-0600
TZNAME:CST
DTSTART:20221106T070000
END:STANDARD
BEGIN:DAYLIGHT
TZOFFSETFROM:-0600
TZOFFSETTO:-0500
TZNAME:CDT
DTSTART:20230312T080000
END:DAYLIGHT
BEGIN:STANDARD
TZOFFSETFROM:-0500
TZOFFSETTO:-0600
TZNAME:CST
DTSTART:20231105T070000
END:STANDARD
BEGIN:DAYLIGHT
TZOFFSETFROM:-0600
TZOFFSETTO:-0500
TZNAME:CDT
DTSTART:20240310T080000
END:DAYLIGHT
BEGIN:STANDARD
TZOFFSETFROM:-0500
TZOFFSETTO:-0600
TZNAME:CST
DTSTART:20241103T070000
END:STANDARD
END:VTIMEZONE
BEGIN:VEVENT
DTSTART;TZID=America/Chicago:20231116T100000
DTEND;TZID=America/Chicago:20231116T110000
DTSTAMP:20260419T144335
CREATED:20230911T212416Z
LAST-MODIFIED:20240227T194635Z
UID:10010470-1700128800-1700132400@wasecalesueurlibraries.com
SUMMARY:Romp and Rhyme Story Time
DESCRIPTION:Elysian Area Library holds Romp and Rhyme story times at 10 am on select dates. From puppets to pumping music\, from bubble machines to banging bands\, these are not your average story time. The Library uses movement\, STEAM activities\, curiosity\, imaginative play\, and active learning to keep kids engaged. Free and open to the public.
URL:https://wasecalesueurlibraries.com/event/romp-and-rhyme-story-time-86/2023-11-16/
LOCATION:Elysian Public Library\, 202 E Main St\, Elysian\, MN\, 56028\, United States
CATEGORIES:Children's Events,Story Times
GEO:44.198703;-93.6724641
X-APPLE-STRUCTURED-LOCATION;VALUE=URI;X-ADDRESS=Elysian Public Library 202 E Main St Elysian MN 56028 United States;X-APPLE-RADIUS=500;X-TITLE=202 E Main St:geo:-93.6724641,44.198703
END:VEVENT
BEGIN:VEVENT
DTSTART;TZID=America/Chicago:20231116T100000
DTEND;TZID=America/Chicago:20231116T110000
DTSTAMP:20260419T144335
CREATED:20231024T180931Z
LAST-MODIFIED:20231024T180931Z
UID:10008489-1700128800-1700132400@wasecalesueurlibraries.com
SUMMARY:Sesame Street Party
DESCRIPTION:Come on down to where the air is sweet to enjoy games and activities inspired by Sesame Street characters. Ages 3-6.
URL:https://wasecalesueurlibraries.com/event/sesame-street-party-5/
LOCATION:Elysian Public Library\, 202 E Main St\, Elysian\, MN\, 56028\, United States
CATEGORIES:Children's Events
GEO:44.198703;-93.6724641
X-APPLE-STRUCTURED-LOCATION;VALUE=URI;X-ADDRESS=Elysian Public Library 202 E Main St Elysian MN 56028 United States;X-APPLE-RADIUS=500;X-TITLE=202 E Main St:geo:-93.6724641,44.198703
END:VEVENT
BEGIN:VEVENT
DTSTART;TZID=America/Chicago:20231116T120000
DTEND;TZID=America/Chicago:20231116T130000
DTSTAMP:20260419T144335
CREATED:20231024T210544Z
LAST-MODIFIED:20231024T210544Z
UID:10010521-1700136000-1700139600@wasecalesueurlibraries.com
SUMMARY:Cook the Book
DESCRIPTION:Try this new spin on a book club! Visit the library to choose a recipe from the selected cookbook. Then bring the finished dish to the event. It’s a great way to share cooking tips and try out delicious food. \nThe Real Food Dietitians by Jessica Beacom and Stacie Hassing \n 
URL:https://wasecalesueurlibraries.com/event/cook-the-book-34/
LOCATION:Waseca Public Library\, 408 N State St\, Waseca\, MN\, 56093\, United States
CATEGORIES:Adult Events
GEO:44.0809183;-93.5069008
X-APPLE-STRUCTURED-LOCATION;VALUE=URI;X-ADDRESS=Waseca Public Library 408 N State St Waseca MN 56093 United States;X-APPLE-RADIUS=500;X-TITLE=408 N State St:geo:-93.5069008,44.0809183
END:VEVENT
BEGIN:VEVENT
DTSTART;TZID=America/Chicago:20231116T150000
DTEND;TZID=America/Chicago:20231116T160000
DTSTAMP:20260419T144335
CREATED:20231024T173355Z
LAST-MODIFIED:20231024T173355Z
UID:10010506-1700146800-1700150400@wasecalesueurlibraries.com
SUMMARY:Author Event: Joy Harjo
DESCRIPTION:United States Poet Laureate and winner of the 2022 Academy of American Poets Leadership Award\, Joy Harjo\, joins us for a chat about her most recent memoir\, Catching the Light and to discuss her rewarding lifetime as a writer and poet. \nRegister now. \nThese events are made possible by the voters of Minnesota through a grant provided by the Traverse des Sioux Library Cooperative\, thanks to a legislative appropriation from the arts and cultural heritage fund.
URL:https://wasecalesueurlibraries.com/event/author-event-joy-harjo/
LOCATION:Virtual Event\, MN\, United States
CATEGORIES:Adult Events,Author Event
END:VEVENT
BEGIN:VEVENT
DTSTART;TZID=America/Chicago:20231116T153000
DTEND;TZID=America/Chicago:20231116T163000
DTSTAMP:20260419T144335
CREATED:20230911T204150Z
LAST-MODIFIED:20241204T193711Z
UID:10010343-1700148600-1700152200@wasecalesueurlibraries.com
SUMMARY:Janesville Lego Club
DESCRIPTION:Kids are invited to join our creative Lego-building club. Each event will have a theme to inspire and Legos to build with.
URL:https://wasecalesueurlibraries.com/event/janesville-lego-club-9/2023-11-16/
LOCATION:Janesville Public Library\, 100 W 2nd St\, Janesville\, MN\, 56048\, United States
CATEGORIES:Children's Events
GEO:44.1173302;-93.7075406
X-APPLE-STRUCTURED-LOCATION;VALUE=URI;X-ADDRESS=Janesville Public Library 100 W 2nd St Janesville MN 56048 United States;X-APPLE-RADIUS=500;X-TITLE=100 W 2nd St:geo:-93.7075406,44.1173302
END:VEVENT
BEGIN:VEVENT
DTSTART;TZID=America/Chicago:20231116T153000
DTEND;TZID=America/Chicago:20231116T170000
DTSTAMP:20260419T144335
CREATED:20230929T210124Z
LAST-MODIFIED:20230929T210124Z
UID:10010485-1700148600-1700154000@wasecalesueurlibraries.com
SUMMARY:Project Think Tank
DESCRIPTION:Legos\, Marble Runs\, Games\, Mazes\, Snacks\, and more! \nJoin this afterschool club where you’ll be devising plans\, detecting problems\, improvising alternate routes\, building models\, competing\, and having fun. Ages 7-12.
URL:https://wasecalesueurlibraries.com/event/project-think-tank/2023-11-16/
LOCATION:Waseca Public Library\, 408 N State St\, Waseca\, MN\, 56093\, United States
CATEGORIES:Children's Events
GEO:44.0809183;-93.5069008
X-APPLE-STRUCTURED-LOCATION;VALUE=URI;X-ADDRESS=Waseca Public Library 408 N State St Waseca MN 56093 United States;X-APPLE-RADIUS=500;X-TITLE=408 N State St:geo:-93.5069008,44.0809183
END:VEVENT
BEGIN:VEVENT
DTSTART;TZID=America/Chicago:20231116T173000
DTEND;TZID=America/Chicago:20231116T183000
DTSTAMP:20260419T144335
CREATED:20231024T205510Z
LAST-MODIFIED:20231024T205510Z
UID:10010517-1700155800-1700159400@wasecalesueurlibraries.com
SUMMARY:Create Your Own Shrinky Dinks
DESCRIPTION:Design a bracelet\, necklace\, or keychain charm to fit your personal style. Ages 7-12.
URL:https://wasecalesueurlibraries.com/event/create-your-own-shrinky-dinks-5/
LOCATION:New Richland Public Library\, 129 Broadway Ave S\, New Richland\, MN\, 56072\, United States
CATEGORIES:Children's Events
GEO:43.8935599;-93.4938211
X-APPLE-STRUCTURED-LOCATION;VALUE=URI;X-ADDRESS=New Richland Public Library 129 Broadway Ave S New Richland MN 56072 United States;X-APPLE-RADIUS=500;X-TITLE=129 Broadway Ave S:geo:-93.4938211,43.8935599
END:VEVENT
BEGIN:VEVENT
DTSTART;TZID=America/Chicago:20231116T180000
DTEND;TZID=America/Chicago:20231116T190000
DTSTAMP:20260419T144335
CREATED:20231024T174420Z
LAST-MODIFIED:20231024T174420Z
UID:10010510-1700157600-1700161200@wasecalesueurlibraries.com
SUMMARY:Tea Towel Family Recipes
DESCRIPTION:Create a custom family heirloom tea towel with a handwritten recipe printed onto it. This is perfect for gifting (or keeping!). Geared for adults. You will need to bring in a handwritten recipe (limit one per person).\n \nRegister now. \nNovember 9th\, 16th  (both workshops required) \nThese events are made possible by the voters of Minnesota through a grant provided by the Traverse des Sioux Library Cooperative\, thanks to a legislative appropriation from the arts and cultural heritage fund. \n 
URL:https://wasecalesueurlibraries.com/event/tea-towel-family-recipes-7/2023-11-16/
LOCATION:Le Sueur Public Library\, 118 Ferry St\, Le Sueur\, MN\, 56058\, United States
CATEGORIES:Adult Events
GEO:44.4601702;-93.9161364
X-APPLE-STRUCTURED-LOCATION;VALUE=URI;X-ADDRESS=Le Sueur Public Library 118 Ferry St Le Sueur MN 56058 United States;X-APPLE-RADIUS=500;X-TITLE=118 Ferry St:geo:-93.9161364,44.4601702
END:VEVENT
BEGIN:VEVENT
DTSTART;TZID=America/Chicago:20231116T180000
DTEND;TZID=America/Chicago:20231116T190000
DTSTAMP:20260419T144335
CREATED:20231024T205821Z
LAST-MODIFIED:20231024T205821Z
UID:10010520-1700157600-1700161200@wasecalesueurlibraries.com
SUMMARY:Mother-Daughter Book Club
DESCRIPTION:Geared for girls in grades 3-6 and a significant adult female\, this book club features the latest children’s books and fun activities. November’s book club\nselection is From the Desk of Zoe Washington by Janae Marks. \n  \n 
URL:https://wasecalesueurlibraries.com/event/mother-daughter-book-club-19/
LOCATION:Waseca Public Library\, 408 N State St\, Waseca\, MN\, 56093\, United States
CATEGORIES:Children's Events
GEO:44.0809183;-93.5069008
X-APPLE-STRUCTURED-LOCATION;VALUE=URI;X-ADDRESS=Waseca Public Library 408 N State St Waseca MN 56093 United States;X-APPLE-RADIUS=500;X-TITLE=408 N State St:geo:-93.5069008,44.0809183
END:VEVENT
BEGIN:VEVENT
DTSTART;TZID=America/Chicago:20231116T180000
DTEND;TZID=America/Chicago:20231116T190000
DTSTAMP:20260419T144335
CREATED:20231024T212411Z
LAST-MODIFIED:20231024T212411Z
UID:10008495-1700157600-1700161200@wasecalesueurlibraries.com
SUMMARY:Rock 'n Roll Trivia
DESCRIPTION:Beatlemania\, disco\, hair bands\, rap\, and more! Assemble a team of up to 3 players to test your music knowledge covering the 1960s-1990s. Geared for adults. Registration required. \nPrizes sponsored by Friends of the Waterville Public Library \n 
URL:https://wasecalesueurlibraries.com/event/rock-n-roll-trivia-2/
LOCATION:Waterville Event Center\, 120 Main Street East\, Waterville\, MN\, 56096\, United States
CATEGORIES:Adult Events
END:VEVENT
END:VCALENDAR