BEGIN:VCALENDAR
VERSION:2.0
PRODID:-//Waseca-Le Sueur Library - ECPv6.15.20//NONSGML v1.0//EN
CALSCALE:GREGORIAN
METHOD:PUBLISH
X-ORIGINAL-URL:https://wasecalesueurlibraries.com
X-WR-CALDESC:Events for Waseca-Le Sueur Library
REFRESH-INTERVAL;VALUE=DURATION:PT1H
X-Robots-Tag:noindex
X-PUBLISHED-TTL:PT1H
BEGIN:VTIMEZONE
TZID:America/Chicago
BEGIN:DAYLIGHT
TZOFFSETFROM:-0600
TZOFFSETTO:-0500
TZNAME:CDT
DTSTART:20220313T080000
END:DAYLIGHT
BEGIN:STANDARD
TZOFFSETFROM:-0500
TZOFFSETTO:-0600
TZNAME:CST
DTSTART:20221106T070000
END:STANDARD
BEGIN:DAYLIGHT
TZOFFSETFROM:-0600
TZOFFSETTO:-0500
TZNAME:CDT
DTSTART:20230312T080000
END:DAYLIGHT
BEGIN:STANDARD
TZOFFSETFROM:-0500
TZOFFSETTO:-0600
TZNAME:CST
DTSTART:20231105T070000
END:STANDARD
BEGIN:DAYLIGHT
TZOFFSETFROM:-0600
TZOFFSETTO:-0500
TZNAME:CDT
DTSTART:20240310T080000
END:DAYLIGHT
BEGIN:STANDARD
TZOFFSETFROM:-0500
TZOFFSETTO:-0600
TZNAME:CST
DTSTART:20241103T070000
END:STANDARD
END:VTIMEZONE
BEGIN:VEVENT
DTSTART;TZID=America/Chicago:20231108T100000
DTEND;TZID=America/Chicago:20231108T110000
DTSTAMP:20260423T132945
CREATED:20230911T212217Z
LAST-MODIFIED:20231024T210200Z
UID:10010450-1699437600-1699441200@wasecalesueurlibraries.com
SUMMARY:Romp and Rhyme Story Time
DESCRIPTION:New Richland Public Library holds Romp and Rhyme story times on Wednesdays at 10 am. From puppets to pumping music\, from bubble machines to banging bands\, these are not your average story time. The Library uses movement\, STEAM activities\, curiosity\, imaginative play\, and active learning to keep kids engaged. Free and open to the public.
URL:https://wasecalesueurlibraries.com/event/romp-and-rhyme-story-time-84/2023-11-08/
LOCATION:New Richland Public Library\, 129 Broadway Ave S\, New Richland\, MN\, 56072\, United States
CATEGORIES:Children's Events,Story Times
GEO:43.8935599;-93.4938211
X-APPLE-STRUCTURED-LOCATION;VALUE=URI;X-ADDRESS=New Richland Public Library 129 Broadway Ave S New Richland MN 56072 United States;X-APPLE-RADIUS=500;X-TITLE=129 Broadway Ave S:geo:-93.4938211,43.8935599
END:VEVENT
BEGIN:VEVENT
DTSTART;TZID=America/Chicago:20231108T153000
DTEND;TZID=America/Chicago:20231108T163000
DTSTAMP:20260423T132945
CREATED:20231024T205402Z
LAST-MODIFIED:20231024T205402Z
UID:10010516-1699457400-1699461000@wasecalesueurlibraries.com
SUMMARY:Stop-Motion Legos
DESCRIPTION:Create your own Lego movie using an iPad and Legos. Ages 7-12. \n 
URL:https://wasecalesueurlibraries.com/event/stop-motion-legos-2/
LOCATION:Montgomery Public Library\, 104 Oak Ave SE\, Montgomery\, MN\, 56069\, United States
CATEGORIES:Children's Events
GEO:44.4355889;-93.5810028
X-APPLE-STRUCTURED-LOCATION;VALUE=URI;X-ADDRESS=Montgomery Public Library 104 Oak Ave SE Montgomery MN 56069 United States;X-APPLE-RADIUS=500;X-TITLE=104 Oak Ave SE:geo:-93.5810028,44.4355889
END:VEVENT
BEGIN:VEVENT
DTSTART;TZID=America/Chicago:20231108T160000
DTEND;TZID=America/Chicago:20231108T170000
DTSTAMP:20260423T132945
CREATED:20230705T164632Z
LAST-MODIFIED:20240501T173441Z
UID:10010198-1699459200-1699462800@wasecalesueurlibraries.com
SUMMARY:Romp and Rhyme Story Time
DESCRIPTION:Waldorf Public Library holds Romp and Rhyme story times on Wednesdays at 3 pm. From puppets to pumping music\, from bubble machines to banging bands\, these are not your average story time. The Library uses movement\, STEAM activities\, curiosity\, imaginative play\, and active learning to keep kids engaged. Free and open to the public.
URL:https://wasecalesueurlibraries.com/event/romp-and-rhyme-story-time-81/2023-11-08/
LOCATION:Waldorf Public Library\, 119 S Main St\, Waldorf\, MN\, 56091\, United States
CATEGORIES:Children's Events,Story Times
GEO:43.9365286;-93.697592
X-APPLE-STRUCTURED-LOCATION;VALUE=URI;X-ADDRESS=Waldorf Public Library 119 S Main St Waldorf MN 56091 United States;X-APPLE-RADIUS=500;X-TITLE=119 S Main St:geo:-93.697592,43.9365286
END:VEVENT
BEGIN:VEVENT
DTSTART;TZID=America/Chicago:20231108T180000
DTEND;TZID=America/Chicago:20231108T200000
DTSTAMP:20260423T132945
CREATED:20230929T213553Z
LAST-MODIFIED:20230929T213553Z
UID:10008459-1699466400-1699473600@wasecalesueurlibraries.com
SUMMARY:Tell Your Story
DESCRIPTION:Geared for adults with developmental disabilities. Join Cow Tipping Press for this innovative creative writing workshop that showcases your unique gifts and voice with the world! No experience necessary to participate. Contact the Library to register. \nThis activity is made possible by the voters of Minnesota through a grant from the Prairie Lakes Regional Arts Council\, thanks to a legislative appropriation from the Arts and Cultural Heritage Fund. \n 
URL:https://wasecalesueurlibraries.com/event/tell-your-story-11/2023-11-08/
LOCATION:Waseca Public Library\, 408 N State St\, Waseca\, MN\, 56093\, United States
CATEGORIES:Adult Events
GEO:44.0809183;-93.5069008
X-APPLE-STRUCTURED-LOCATION;VALUE=URI;X-ADDRESS=Waseca Public Library 408 N State St Waseca MN 56093 United States;X-APPLE-RADIUS=500;X-TITLE=408 N State St:geo:-93.5069008,44.0809183
END:VEVENT
END:VCALENDAR