BEGIN:VCALENDAR
VERSION:2.0
PRODID:-//Waseca-Le Sueur Library - ECPv6.15.20//NONSGML v1.0//EN
CALSCALE:GREGORIAN
METHOD:PUBLISH
X-ORIGINAL-URL:https://wasecalesueurlibraries.com
X-WR-CALDESC:Events for Waseca-Le Sueur Library
REFRESH-INTERVAL;VALUE=DURATION:PT1H
X-Robots-Tag:noindex
X-PUBLISHED-TTL:PT1H
BEGIN:VTIMEZONE
TZID:America/Denver
BEGIN:DAYLIGHT
TZOFFSETFROM:-0700
TZOFFSETTO:-0600
TZNAME:MDT
DTSTART:20220313T090000
END:DAYLIGHT
BEGIN:STANDARD
TZOFFSETFROM:-0600
TZOFFSETTO:-0700
TZNAME:MST
DTSTART:20221106T080000
END:STANDARD
BEGIN:DAYLIGHT
TZOFFSETFROM:-0700
TZOFFSETTO:-0600
TZNAME:MDT
DTSTART:20230312T090000
END:DAYLIGHT
BEGIN:STANDARD
TZOFFSETFROM:-0600
TZOFFSETTO:-0700
TZNAME:MST
DTSTART:20231105T080000
END:STANDARD
BEGIN:DAYLIGHT
TZOFFSETFROM:-0700
TZOFFSETTO:-0600
TZNAME:MDT
DTSTART:20240310T090000
END:DAYLIGHT
BEGIN:STANDARD
TZOFFSETFROM:-0600
TZOFFSETTO:-0700
TZNAME:MST
DTSTART:20241103T080000
END:STANDARD
END:VTIMEZONE
BEGIN:VTIMEZONE
TZID:America/Chicago
BEGIN:DAYLIGHT
TZOFFSETFROM:-0600
TZOFFSETTO:-0500
TZNAME:CDT
DTSTART:20220313T080000
END:DAYLIGHT
BEGIN:STANDARD
TZOFFSETFROM:-0500
TZOFFSETTO:-0600
TZNAME:CST
DTSTART:20221106T070000
END:STANDARD
BEGIN:DAYLIGHT
TZOFFSETFROM:-0600
TZOFFSETTO:-0500
TZNAME:CDT
DTSTART:20230312T080000
END:DAYLIGHT
BEGIN:STANDARD
TZOFFSETFROM:-0500
TZOFFSETTO:-0600
TZNAME:CST
DTSTART:20231105T070000
END:STANDARD
BEGIN:DAYLIGHT
TZOFFSETFROM:-0600
TZOFFSETTO:-0500
TZNAME:CDT
DTSTART:20240310T080000
END:DAYLIGHT
BEGIN:STANDARD
TZOFFSETFROM:-0500
TZOFFSETTO:-0600
TZNAME:CST
DTSTART:20241103T070000
END:STANDARD
END:VTIMEZONE
BEGIN:VEVENT
DTSTART;TZID=America/Denver:20231104T100000
DTEND;TZID=America/Denver:20231104T103000
DTSTAMP:20260425T082447
CREATED:20230207T173812Z
LAST-MODIFIED:20240129T214805Z
UID:10009938-1699092000-1699093800@wasecalesueurlibraries.com
SUMMARY:Waseca Lego Story time
DESCRIPTION:Tell the story with Legos! Kids ages 4-6 can join our monthly creative Lego-building group\, with an adult. Each event will include a story to inspire the builders.
URL:https://wasecalesueurlibraries.com/event/waseca-lego-story-time-5/2023-11-04/
LOCATION:Waseca Public Library\, 408 N State St\, Waseca\, MN\, 56093\, United States
CATEGORIES:Children's Events
GEO:44.0809183;-93.5069008
X-APPLE-STRUCTURED-LOCATION;VALUE=URI;X-ADDRESS=Waseca Public Library 408 N State St Waseca MN 56093 United States;X-APPLE-RADIUS=500;X-TITLE=408 N State St:geo:-93.5069008,44.0809183
END:VEVENT
BEGIN:VEVENT
DTSTART;TZID=America/Chicago:20231104T100000
DTEND;TZID=America/Chicago:20231104T110000
DTSTAMP:20260425T082447
CREATED:20230911T204235Z
LAST-MODIFIED:20240328T010752Z
UID:10010356-1699092000-1699095600@wasecalesueurlibraries.com
SUMMARY:Elysian Lego Club
DESCRIPTION:Kids are invited to join our creative Lego-building club. Each event will have a theme to inspire and Legos to build with.
URL:https://wasecalesueurlibraries.com/event/elysian-lego-club-5/2023-11-04/
LOCATION:Elysian Public Library\, 202 E Main St\, Elysian\, MN\, 56028\, United States
CATEGORIES:Children's Events
GEO:44.198703;-93.6724641
X-APPLE-STRUCTURED-LOCATION;VALUE=URI;X-ADDRESS=Elysian Public Library 202 E Main St Elysian MN 56028 United States;X-APPLE-RADIUS=500;X-TITLE=202 E Main St:geo:-93.6724641,44.198703
END:VEVENT
BEGIN:VEVENT
DTSTART;TZID=America/Chicago:20231104T100000
DTEND;TZID=America/Chicago:20231104T110000
DTSTAMP:20260425T082447
CREATED:20230929T203916Z
LAST-MODIFIED:20230929T203916Z
UID:10008402-1699092000-1699095600@wasecalesueurlibraries.com
SUMMARY:Wellness Saturday: Forest Bathing
DESCRIPTION:Motz Studios\, a Minnesota-based wellness provider will lead a therapeutic\, forest bathing walk\, based on the Japanese tradition of Shinrin Yoku\, which emphasizes engaging all of your senses in an immersive\, meditative experience of nature.
URL:https://wasecalesueurlibraries.com/event/wellness-saturday-forest-bathing/
LOCATION:Le Center Public Library\, 10 W Tyrone St\, Le Center\, MN\, 56057\, United States
CATEGORIES:Adult Events
GEO:44.3907505;-93.7316339
X-APPLE-STRUCTURED-LOCATION;VALUE=URI;X-ADDRESS=Le Center Public Library 10 W Tyrone St Le Center MN 56057 United States;X-APPLE-RADIUS=500;X-TITLE=10 W Tyrone St:geo:-93.7316339,44.3907505
END:VEVENT
BEGIN:VEVENT
DTSTART;TZID=America/Chicago:20231104T100000
DTEND;TZID=America/Chicago:20231104T110000
DTSTAMP:20260425T082447
CREATED:20231024T174643Z
LAST-MODIFIED:20231024T174643Z
UID:10010512-1699092000-1699095600@wasecalesueurlibraries.com
SUMMARY:Forest Bathing
DESCRIPTION:Motz Studios\, a Minnesota-based wellness provider will lead a therapeutic\, forest bathing walk\, based on the Japanese tradition of Shinrin Yoku\, which emphasizes engaging all of your senses in an immersive\, meditative experience of nature. \n 
URL:https://wasecalesueurlibraries.com/event/forest-bathing-2/
LOCATION:Waseca Public Library\, 408 N State St\, Waseca\, MN\, 56093\, United States
CATEGORIES:Adult Events
GEO:44.0809183;-93.5069008
X-APPLE-STRUCTURED-LOCATION;VALUE=URI;X-ADDRESS=Waseca Public Library 408 N State St Waseca MN 56093 United States;X-APPLE-RADIUS=500;X-TITLE=408 N State St:geo:-93.5069008,44.0809183
END:VEVENT
BEGIN:VEVENT
DTSTART;TZID=America/Denver:20231104T110000
DTEND;TZID=America/Denver:20231104T120000
DTSTAMP:20260425T082447
CREATED:20221004T184050Z
LAST-MODIFIED:20231024T204450Z
UID:10007879-1699095600-1699099200@wasecalesueurlibraries.com
SUMMARY:Waseca Lego Club
DESCRIPTION:Unlock the magic of Legos by ditching the instruction manual and building your own! Lego builders will be given a theme to inspire their creations. Geared for ages 7-12.
URL:https://wasecalesueurlibraries.com/event/waseca-lego-club-7/2023-11-04/
LOCATION:Waseca Public Library\, 408 N State St\, Waseca\, MN\, 56093\, United States
CATEGORIES:Children's Events
GEO:44.0809183;-93.5069008
X-APPLE-STRUCTURED-LOCATION;VALUE=URI;X-ADDRESS=Waseca Public Library 408 N State St Waseca MN 56093 United States;X-APPLE-RADIUS=500;X-TITLE=408 N State St:geo:-93.5069008,44.0809183
END:VEVENT
END:VCALENDAR