BEGIN:VCALENDAR
VERSION:2.0
PRODID:-//Waseca-Le Sueur Library - ECPv6.15.18//NONSGML v1.0//EN
CALSCALE:GREGORIAN
METHOD:PUBLISH
X-ORIGINAL-URL:https://wasecalesueurlibraries.com
X-WR-CALDESC:Events for Waseca-Le Sueur Library
REFRESH-INTERVAL;VALUE=DURATION:PT1H
X-Robots-Tag:noindex
X-PUBLISHED-TTL:PT1H
BEGIN:VTIMEZONE
TZID:America/Chicago
BEGIN:DAYLIGHT
TZOFFSETFROM:-0600
TZOFFSETTO:-0500
TZNAME:CDT
DTSTART:20220313T080000
END:DAYLIGHT
BEGIN:STANDARD
TZOFFSETFROM:-0500
TZOFFSETTO:-0600
TZNAME:CST
DTSTART:20221106T070000
END:STANDARD
BEGIN:DAYLIGHT
TZOFFSETFROM:-0600
TZOFFSETTO:-0500
TZNAME:CDT
DTSTART:20230312T080000
END:DAYLIGHT
BEGIN:STANDARD
TZOFFSETFROM:-0500
TZOFFSETTO:-0600
TZNAME:CST
DTSTART:20231105T070000
END:STANDARD
BEGIN:DAYLIGHT
TZOFFSETFROM:-0600
TZOFFSETTO:-0500
TZNAME:CDT
DTSTART:20240310T080000
END:DAYLIGHT
BEGIN:STANDARD
TZOFFSETFROM:-0500
TZOFFSETTO:-0600
TZNAME:CST
DTSTART:20241103T070000
END:STANDARD
END:VTIMEZONE
BEGIN:VEVENT
DTSTART;TZID=America/Chicago:20231031T093000
DTEND;TZID=America/Chicago:20231031T103000
DTSTAMP:20260419T124826
CREATED:20230511T185543Z
LAST-MODIFIED:20230929T212430Z
UID:10010062-1698744600-1698748200@wasecalesueurlibraries.com
SUMMARY:Romp and Rhyme Story Time
DESCRIPTION:Le Center Public Library holds Romp and Rhyme story times on Tuesdays at 9:30 am. From puppets to pumping music\, from bubble machines to banging bands\, these are not your average story time. The Library uses movement\, STEAM activities\, curiosity\, imaginative play\, and active learning to keep kids engaged. Free and open to the public.
URL:https://wasecalesueurlibraries.com/event/romp-and-rhyme-story-time-80/2023-10-31/
LOCATION:Le Center Public Library\, 10 W Tyrone St\, Le Center\, MN\, 56057\, United States
CATEGORIES:Children's Events,Story Times
GEO:44.3907505;-93.7316339
X-APPLE-STRUCTURED-LOCATION;VALUE=URI;X-ADDRESS=Le Center Public Library 10 W Tyrone St Le Center MN 56057 United States;X-APPLE-RADIUS=500;X-TITLE=10 W Tyrone St:geo:-93.7316339,44.3907505
END:VEVENT
BEGIN:VEVENT
DTSTART;TZID=America/Chicago:20231031T100000
DTEND;TZID=America/Chicago:20231031T103000
DTSTAMP:20260419T124826
CREATED:20230929T212647Z
LAST-MODIFIED:20231024T210100Z
UID:10008429-1698746400-1698748200@wasecalesueurlibraries.com
SUMMARY:Baby Lapsit Romp and Rhyme Story Time
DESCRIPTION:Waseca Public Library holds Romp and Rhyme storytimes for ages 0-3 on Wednesdays at 10:30 am. From puppets to pumping music\, from bubble machines to banging bands\, these are not your average story time. The Library uses movement\, STEAM activities\, curiosity\, imaginative play\, and active learning to keep kids engaged. Free and open to the public.
URL:https://wasecalesueurlibraries.com/event/baby-lapsit-romp-and-rhyme-story-time/2023-10-31/
LOCATION:Waseca Public Library\, 408 N State St\, Waseca\, MN\, 56093\, United States
CATEGORIES:Children's Events,Story Times
GEO:44.0809183;-93.5069008
X-APPLE-STRUCTURED-LOCATION;VALUE=URI;X-ADDRESS=Waseca Public Library 408 N State St Waseca MN 56093 United States;X-APPLE-RADIUS=500;X-TITLE=408 N State St:geo:-93.5069008,44.0809183
END:VEVENT
BEGIN:VEVENT
DTSTART;TZID=America/Chicago:20231031T100000
DTEND;TZID=America/Chicago:20231031T110000
DTSTAMP:20260419T124826
CREATED:20230911T212036Z
LAST-MODIFIED:20240530T182247Z
UID:10010413-1698746400-1698750000@wasecalesueurlibraries.com
SUMMARY:Romp and Rhyme Story Time
DESCRIPTION:Le Sueur Public Library holds Romp and Rhyme story times on Tuesdays at 10 am. From puppets to pumping music\, from bubble machines to banging bands\, these are not your average story time. The Library uses movement\, STEAM activities\, curiosity\, imaginative play\, and active learning to keep kids engaged. Free and open to the public.
URL:https://wasecalesueurlibraries.com/event/romp-and-rhyme-story-time-83/2023-10-31/
LOCATION:Le Sueur Public Library\, 118 Ferry St\, Le Sueur\, MN\, 56058\, United States
CATEGORIES:Children's Events,Story Times
GEO:44.4601702;-93.9161364
X-APPLE-STRUCTURED-LOCATION;VALUE=URI;X-ADDRESS=Le Sueur Public Library 118 Ferry St Le Sueur MN 56058 United States;X-APPLE-RADIUS=500;X-TITLE=118 Ferry St:geo:-93.9161364,44.4601702
END:VEVENT
BEGIN:VEVENT
DTSTART;TZID=America/Chicago:20231031T103000
DTEND;TZID=America/Chicago:20231031T113000
DTSTAMP:20260419T124826
CREATED:20230929T212813Z
LAST-MODIFIED:20240501T173729Z
UID:10008438-1698748200-1698751800@wasecalesueurlibraries.com
SUMMARY:Romp and Rhyme Story Time
DESCRIPTION:Waseca Public Library holds Romp and Rhyme story times at 5:30 pm on select dates. From puppets to pumping music\, from bubble machines to banging bands\, these are not your average story time. The Library uses movement\, STEAM activities\, curiosity\, imaginative play\, and active learning to keep kids engaged. Free and open to the public.
URL:https://wasecalesueurlibraries.com/event/10934/2023-10-31/
LOCATION:Waseca Public Library\, 408 N State St\, Waseca\, MN\, 56093\, United States
CATEGORIES:Children's Events,Story Times
GEO:44.0809183;-93.5069008
X-APPLE-STRUCTURED-LOCATION;VALUE=URI;X-ADDRESS=Waseca Public Library 408 N State St Waseca MN 56093 United States;X-APPLE-RADIUS=500;X-TITLE=408 N State St:geo:-93.5069008,44.0809183
END:VEVENT
BEGIN:VEVENT
DTSTART;TZID=America/Chicago:20231031T160000
DTEND;TZID=America/Chicago:20231031T170000
DTSTAMP:20260419T124826
CREATED:20230724T132153Z
LAST-MODIFIED:20240501T171615Z
UID:10010270-1698768000-1698771600@wasecalesueurlibraries.com
SUMMARY:Waldorf Lego Club
DESCRIPTION:Kids are invited to join our creative Lego-building club. Each event will have a theme to inspire and Legos to build with.
URL:https://wasecalesueurlibraries.com/event/waldorf-lego-club-5/2023-10-31/
LOCATION:Waldorf Public Library\, 119 S Main St\, Waldorf\, MN\, 56091\, United States
CATEGORIES:Children's Events
GEO:43.9365286;-93.697592
X-APPLE-STRUCTURED-LOCATION;VALUE=URI;X-ADDRESS=Waldorf Public Library 119 S Main St Waldorf MN 56091 United States;X-APPLE-RADIUS=500;X-TITLE=119 S Main St:geo:-93.697592,43.9365286
END:VEVENT
END:VCALENDAR