BEGIN:VCALENDAR
VERSION:2.0
PRODID:-//Waseca-Le Sueur Library - ECPv6.15.20//NONSGML v1.0//EN
CALSCALE:GREGORIAN
METHOD:PUBLISH
X-WR-CALNAME:Waseca-Le Sueur Library
X-ORIGINAL-URL:https://wasecalesueurlibraries.com
X-WR-CALDESC:Events for Waseca-Le Sueur Library
REFRESH-INTERVAL;VALUE=DURATION:PT1H
X-Robots-Tag:noindex
X-PUBLISHED-TTL:PT1H
BEGIN:VTIMEZONE
TZID:America/Chicago
BEGIN:DAYLIGHT
TZOFFSETFROM:-0600
TZOFFSETTO:-0500
TZNAME:CDT
DTSTART:20220313T080000
END:DAYLIGHT
BEGIN:STANDARD
TZOFFSETFROM:-0500
TZOFFSETTO:-0600
TZNAME:CST
DTSTART:20221106T070000
END:STANDARD
BEGIN:DAYLIGHT
TZOFFSETFROM:-0600
TZOFFSETTO:-0500
TZNAME:CDT
DTSTART:20230312T080000
END:DAYLIGHT
BEGIN:STANDARD
TZOFFSETFROM:-0500
TZOFFSETTO:-0600
TZNAME:CST
DTSTART:20231105T070000
END:STANDARD
BEGIN:DAYLIGHT
TZOFFSETFROM:-0600
TZOFFSETTO:-0500
TZNAME:CDT
DTSTART:20240310T080000
END:DAYLIGHT
BEGIN:STANDARD
TZOFFSETFROM:-0500
TZOFFSETTO:-0600
TZNAME:CST
DTSTART:20241103T070000
END:STANDARD
END:VTIMEZONE
BEGIN:VEVENT
DTSTART;TZID=America/Chicago:20231026T093000
DTEND;TZID=America/Chicago:20231026T103000
DTSTAMP:20260424T123439
CREATED:20230911T212327Z
LAST-MODIFIED:20230929T213013Z
UID:10010459-1698312600-1698316200@wasecalesueurlibraries.com
SUMMARY:Romp and Rhyme Story Time
DESCRIPTION:Janesville Public Library holds Romp and Rhyme story times on Thursdays at 9:30 am. From puppets to pumping music\, from bubble machines to banging bands\, these are not your average story time. The Library uses movement\, STEAM activities\, curiosity\, imaginative play\, and active learning to keep kids engaged. Free and open to the public.
URL:https://wasecalesueurlibraries.com/event/romp-and-rhyme-story-time-85/2023-10-26/
LOCATION:Janesville Public Library\, 100 W 2nd St\, Janesville\, MN\, 56048\, United States
CATEGORIES:Children's Events,Story Times
GEO:44.1173302;-93.7075406
X-APPLE-STRUCTURED-LOCATION;VALUE=URI;X-ADDRESS=Janesville Public Library 100 W 2nd St Janesville MN 56048 United States;X-APPLE-RADIUS=500;X-TITLE=100 W 2nd St:geo:-93.7075406,44.1173302
END:VEVENT
BEGIN:VEVENT
DTSTART;TZID=America/Chicago:20231026T100000
DTEND;TZID=America/Chicago:20231026T110000
DTSTAMP:20260424T123439
CREATED:20230911T212416Z
LAST-MODIFIED:20240227T194635Z
UID:10010467-1698314400-1698318000@wasecalesueurlibraries.com
SUMMARY:Romp and Rhyme Story Time
DESCRIPTION:Elysian Area Library holds Romp and Rhyme story times at 10 am on select dates. From puppets to pumping music\, from bubble machines to banging bands\, these are not your average story time. The Library uses movement\, STEAM activities\, curiosity\, imaginative play\, and active learning to keep kids engaged. Free and open to the public.
URL:https://wasecalesueurlibraries.com/event/romp-and-rhyme-story-time-86/2023-10-26/
LOCATION:Elysian Public Library\, 202 E Main St\, Elysian\, MN\, 56028\, United States
CATEGORIES:Children's Events,Story Times
GEO:44.198703;-93.6724641
X-APPLE-STRUCTURED-LOCATION;VALUE=URI;X-ADDRESS=Elysian Public Library 202 E Main St Elysian MN 56028 United States;X-APPLE-RADIUS=500;X-TITLE=202 E Main St:geo:-93.6724641,44.198703
END:VEVENT
BEGIN:VEVENT
DTSTART;TZID=America/Chicago:20231026T153000
DTEND;TZID=America/Chicago:20231026T163000
DTSTAMP:20260424T123439
CREATED:20230929T204732Z
LAST-MODIFIED:20230929T204732Z
UID:10008409-1698334200-1698337800@wasecalesueurlibraries.com
SUMMARY:Stamped Leather Keychains
DESCRIPTION:Create a chic\, personalized leather keychain. Geared for adults. \nThis event is made possible by the voters of Minnesota through a grant provided by the Traverse des Sioux Library Cooperative\, thanks to a legislative appropriation from the arts and cultural heritage fund. \n 
URL:https://wasecalesueurlibraries.com/event/stamped-leather-keychains-3/
LOCATION:Montgomery Public Library\, 104 Oak Ave SE\, Montgomery\, MN\, 56069\, United States
CATEGORIES:Adult Events
GEO:44.4355889;-93.5810028
X-APPLE-STRUCTURED-LOCATION;VALUE=URI;X-ADDRESS=Montgomery Public Library 104 Oak Ave SE Montgomery MN 56069 United States;X-APPLE-RADIUS=500;X-TITLE=104 Oak Ave SE:geo:-93.5810028,44.4355889
END:VEVENT
BEGIN:VEVENT
DTSTART;TZID=America/Chicago:20231026T153000
DTEND;TZID=America/Chicago:20231026T170000
DTSTAMP:20260424T123439
CREATED:20230929T210124Z
LAST-MODIFIED:20230929T210124Z
UID:10010482-1698334200-1698339600@wasecalesueurlibraries.com
SUMMARY:Project Think Tank
DESCRIPTION:Legos\, Marble Runs\, Games\, Mazes\, Snacks\, and more! \nJoin this afterschool club where you’ll be devising plans\, detecting problems\, improvising alternate routes\, building models\, competing\, and having fun. Ages 7-12.
URL:https://wasecalesueurlibraries.com/event/project-think-tank/2023-10-26/
LOCATION:Waseca Public Library\, 408 N State St\, Waseca\, MN\, 56093\, United States
CATEGORIES:Children's Events
GEO:44.0809183;-93.5069008
X-APPLE-STRUCTURED-LOCATION;VALUE=URI;X-ADDRESS=Waseca Public Library 408 N State St Waseca MN 56093 United States;X-APPLE-RADIUS=500;X-TITLE=408 N State St:geo:-93.5069008,44.0809183
END:VEVENT
BEGIN:VEVENT
DTSTART;TZID=America/Chicago:20231026T173000
DTEND;TZID=America/Chicago:20231026T183000
DTSTAMP:20260424T123439
CREATED:20230929T204204Z
LAST-MODIFIED:20230929T204204Z
UID:10008405-1698341400-1698345000@wasecalesueurlibraries.com
SUMMARY:Arm Knitting
DESCRIPTION:Try out a fast and fun chunky knitting project that is needle-free. Geared for teens and adults. \n 
URL:https://wasecalesueurlibraries.com/event/arm-knitting-6/
LOCATION:New Richland Public Library\, 129 Broadway Ave S\, New Richland\, MN\, 56072\, United States
CATEGORIES:Adult Events,Teen Events
GEO:43.8935599;-93.4938211
X-APPLE-STRUCTURED-LOCATION;VALUE=URI;X-ADDRESS=New Richland Public Library 129 Broadway Ave S New Richland MN 56072 United States;X-APPLE-RADIUS=500;X-TITLE=129 Broadway Ave S:geo:-93.4938211,43.8935599
END:VEVENT
BEGIN:VEVENT
DTSTART;TZID=America/Chicago:20231026T180000
DTEND;TZID=America/Chicago:20231026T190000
DTSTAMP:20260424T123439
CREATED:20230929T203006Z
LAST-MODIFIED:20230929T203122Z
UID:10010476-1698343200-1698346800@wasecalesueurlibraries.com
SUMMARY:Author Event: John Irving
DESCRIPTION:You are in for a treat when you join us for our conversation with John Irving as he chats about not only his most recent novel\, The Last Chairlift\, but also about his lifetime spent writing\, including penning A Prayer for Owen Meany\, The World According to Garp\, and The Cider House Rules. \nRegister now. \nThese events are made possible by the voters of Minnesota through a grant provided by the Traverse des Sioux Library Cooperative\, thanks to a legislative appropriation from the arts and cultural heritage fund.
URL:https://wasecalesueurlibraries.com/event/author-event-john-irving/
LOCATION:Virtual Event\, MN\, United States
CATEGORIES:Adult Events,Author Event
END:VEVENT
BEGIN:VEVENT
DTSTART;TZID=America/Chicago:20231026T180000
DTEND;TZID=America/Chicago:20231026T190000
DTSTAMP:20260424T123439
CREATED:20230929T214803Z
LAST-MODIFIED:20230929T214809Z
UID:10010502-1698343200-1698346800@wasecalesueurlibraries.com
SUMMARY:Chick Flicks Trivia
DESCRIPTION:From teen comedies to romantic tearjerkers. Assemble a team of up to 4 players to claim Girls Night status. Geared for adults. Registration required. \nPrizes sponsored by Friends of the Waterville Public Library \n 
URL:https://wasecalesueurlibraries.com/event/chick-flicks-trivia-4/
LOCATION:Waterville Event Center\, 120 Main Street East\, Waterville\, MN\, 56096\, United States
CATEGORIES:Adult Events
END:VEVENT
END:VCALENDAR