BEGIN:VCALENDAR
VERSION:2.0
PRODID:-//Waseca-Le Sueur Library - ECPv6.15.20//NONSGML v1.0//EN
CALSCALE:GREGORIAN
METHOD:PUBLISH
X-ORIGINAL-URL:https://wasecalesueurlibraries.com
X-WR-CALDESC:Events for Waseca-Le Sueur Library
REFRESH-INTERVAL;VALUE=DURATION:PT1H
X-Robots-Tag:noindex
X-PUBLISHED-TTL:PT1H
BEGIN:VTIMEZONE
TZID:America/Chicago
BEGIN:DAYLIGHT
TZOFFSETFROM:-0600
TZOFFSETTO:-0500
TZNAME:CDT
DTSTART:20220313T080000
END:DAYLIGHT
BEGIN:STANDARD
TZOFFSETFROM:-0500
TZOFFSETTO:-0600
TZNAME:CST
DTSTART:20221106T070000
END:STANDARD
BEGIN:DAYLIGHT
TZOFFSETFROM:-0600
TZOFFSETTO:-0500
TZNAME:CDT
DTSTART:20230312T080000
END:DAYLIGHT
BEGIN:STANDARD
TZOFFSETFROM:-0500
TZOFFSETTO:-0600
TZNAME:CST
DTSTART:20231105T070000
END:STANDARD
BEGIN:DAYLIGHT
TZOFFSETFROM:-0600
TZOFFSETTO:-0500
TZNAME:CDT
DTSTART:20240310T080000
END:DAYLIGHT
BEGIN:STANDARD
TZOFFSETFROM:-0500
TZOFFSETTO:-0600
TZNAME:CST
DTSTART:20241103T070000
END:STANDARD
END:VTIMEZONE
BEGIN:VEVENT
DTSTART;TZID=America/Chicago:20231021T133000
DTEND;TZID=America/Chicago:20231021T143000
DTSTAMP:20260424T122559
CREATED:20230929T204102Z
LAST-MODIFIED:20230929T204102Z
UID:10008404-1697895000-1697898600@wasecalesueurlibraries.com
SUMMARY:Wellness Saturday: Sound Bathing
DESCRIPTION:Participate in a meditative experience where you are “bathed” in sound waves in order to help promote relaxation. Kirsten Conry of Kismet Sound Healing will lead the Wellness Saturday event. \nBring a yoga mat or towel to lay on the floor. \n  \n 
URL:https://wasecalesueurlibraries.com/event/wellness-saturday-sound-bathing/
LOCATION:Waseca Public Library\, 408 N State St\, Waseca\, MN\, 56093\, United States
CATEGORIES:Adult Events
GEO:44.0809183;-93.5069008
X-APPLE-STRUCTURED-LOCATION;VALUE=URI;X-ADDRESS=Waseca Public Library 408 N State St Waseca MN 56093 United States;X-APPLE-RADIUS=500;X-TITLE=408 N State St:geo:-93.5069008,44.0809183
END:VEVENT
BEGIN:VEVENT
DTSTART;TZID=America/Chicago:20231021T160000
DTEND;TZID=America/Chicago:20231021T170000
DTSTAMP:20260424T122559
CREATED:20230929T213747Z
LAST-MODIFIED:20230929T213747Z
UID:10008462-1697904000-1697907600@wasecalesueurlibraries.com
SUMMARY:Books and Brews
DESCRIPTION:It’s the perfect combo of bookworm babble and beer. \nPick up a copy of Bad Cree by Jessica Johns at Waseca Public Library and discuss it at Half Pint Brewing Company. \nFood and drinks not provided but can be purchased. \n 
URL:https://wasecalesueurlibraries.com/event/books-and-brews-25/
LOCATION:Half-Pint Brewery\, 40099 150th St\, Waseca\, MN\, 56093\, United States
CATEGORIES:Adult Events,Book Clubs
GEO:44.1393696;-93.4682239
X-APPLE-STRUCTURED-LOCATION;VALUE=URI;X-ADDRESS=Half-Pint Brewery 40099 150th St Waseca MN 56093 United States;X-APPLE-RADIUS=500;X-TITLE=40099 150th St:geo:-93.4682239,44.1393696
END:VEVENT
END:VCALENDAR