BEGIN:VCALENDAR
VERSION:2.0
PRODID:-//Waseca-Le Sueur Library - ECPv6.15.20//NONSGML v1.0//EN
CALSCALE:GREGORIAN
METHOD:PUBLISH
X-ORIGINAL-URL:https://wasecalesueurlibraries.com
X-WR-CALDESC:Events for Waseca-Le Sueur Library
REFRESH-INTERVAL;VALUE=DURATION:PT1H
X-Robots-Tag:noindex
X-PUBLISHED-TTL:PT1H
BEGIN:VTIMEZONE
TZID:America/Chicago
BEGIN:DAYLIGHT
TZOFFSETFROM:-0600
TZOFFSETTO:-0500
TZNAME:CDT
DTSTART:20220313T080000
END:DAYLIGHT
BEGIN:STANDARD
TZOFFSETFROM:-0500
TZOFFSETTO:-0600
TZNAME:CST
DTSTART:20221106T070000
END:STANDARD
BEGIN:DAYLIGHT
TZOFFSETFROM:-0600
TZOFFSETTO:-0500
TZNAME:CDT
DTSTART:20230312T080000
END:DAYLIGHT
BEGIN:STANDARD
TZOFFSETFROM:-0500
TZOFFSETTO:-0600
TZNAME:CST
DTSTART:20231105T070000
END:STANDARD
BEGIN:DAYLIGHT
TZOFFSETFROM:-0600
TZOFFSETTO:-0500
TZNAME:CDT
DTSTART:20240310T080000
END:DAYLIGHT
BEGIN:STANDARD
TZOFFSETFROM:-0500
TZOFFSETTO:-0600
TZNAME:CST
DTSTART:20241103T070000
END:STANDARD
END:VTIMEZONE
BEGIN:VEVENT
DTSTART;TZID=America/Chicago:20230914T093000
DTEND;TZID=America/Chicago:20230914T103000
DTSTAMP:20260424T151114
CREATED:20230911T212327Z
LAST-MODIFIED:20230929T213013Z
UID:10010453-1694683800-1694687400@wasecalesueurlibraries.com
SUMMARY:Romp and Rhyme Story Time
DESCRIPTION:Janesville Public Library holds Romp and Rhyme story times on Thursdays at 9:30 am. From puppets to pumping music\, from bubble machines to banging bands\, these are not your average story time. The Library uses movement\, STEAM activities\, curiosity\, imaginative play\, and active learning to keep kids engaged. Free and open to the public.
URL:https://wasecalesueurlibraries.com/event/romp-and-rhyme-story-time-85/2023-09-14/
LOCATION:Janesville Public Library\, 100 W 2nd St\, Janesville\, MN\, 56048\, United States
CATEGORIES:Children's Events,Story Times
GEO:44.1173302;-93.7075406
X-APPLE-STRUCTURED-LOCATION;VALUE=URI;X-ADDRESS=Janesville Public Library 100 W 2nd St Janesville MN 56048 United States;X-APPLE-RADIUS=500;X-TITLE=100 W 2nd St:geo:-93.7075406,44.1173302
END:VEVENT
BEGIN:VEVENT
DTSTART;TZID=America/Chicago:20230914T100000
DTEND;TZID=America/Chicago:20230914T110000
DTSTAMP:20260424T151114
CREATED:20230911T212416Z
LAST-MODIFIED:20240227T194635Z
UID:10010461-1694685600-1694689200@wasecalesueurlibraries.com
SUMMARY:Romp and Rhyme Story Time
DESCRIPTION:Elysian Area Library holds Romp and Rhyme story times at 10 am on select dates. From puppets to pumping music\, from bubble machines to banging bands\, these are not your average story time. The Library uses movement\, STEAM activities\, curiosity\, imaginative play\, and active learning to keep kids engaged. Free and open to the public.
URL:https://wasecalesueurlibraries.com/event/romp-and-rhyme-story-time-86/2023-09-14/
LOCATION:Elysian Public Library\, 202 E Main St\, Elysian\, MN\, 56028\, United States
CATEGORIES:Children's Events,Story Times
GEO:44.198703;-93.6724641
X-APPLE-STRUCTURED-LOCATION;VALUE=URI;X-ADDRESS=Elysian Public Library 202 E Main St Elysian MN 56028 United States;X-APPLE-RADIUS=500;X-TITLE=202 E Main St:geo:-93.6724641,44.198703
END:VEVENT
BEGIN:VEVENT
DTSTART;TZID=America/Chicago:20230914T120000
DTEND;TZID=America/Chicago:20230914T130000
DTSTAMP:20260424T151114
CREATED:20230911T210051Z
LAST-MODIFIED:20230911T210051Z
UID:10008393-1694692800-1694696400@wasecalesueurlibraries.com
SUMMARY:Cook the Book
DESCRIPTION:Try this new spin on a book club! Visit the library to choose a recipe from the selected cookbook. Then bring the finished dish to the event. It’s a great way to share cooking tips and try out delicious food. \nNoodle Worship by Tiffani and Larone Thompson \n 
URL:https://wasecalesueurlibraries.com/event/cook-the-book-33/
LOCATION:Waseca Public Library\, 408 N State St\, Waseca\, MN\, 56093\, United States
CATEGORIES:Adult Events,Book Clubs
GEO:44.0809183;-93.5069008
X-APPLE-STRUCTURED-LOCATION;VALUE=URI;X-ADDRESS=Waseca Public Library 408 N State St Waseca MN 56093 United States;X-APPLE-RADIUS=500;X-TITLE=408 N State St:geo:-93.5069008,44.0809183
END:VEVENT
BEGIN:VEVENT
DTSTART;TZID=America/Chicago:20230914T130000
DTEND;TZID=America/Chicago:20230914T140000
DTSTAMP:20260424T151114
CREATED:20230908T204803Z
LAST-MODIFIED:20230908T204803Z
UID:10008348-1694696400-1694700000@wasecalesueurlibraries.com
SUMMARY:Liberators and the Holocaust
DESCRIPTION:Arn Kind will share the experience of what American soldiers\, including Minnesotans\, witnessed as they came upon and liberated the prisoners in the Nazi concentration camps in the waning days of World\nWar II. \nThese events are made possible by the voters of Minnesota through a grant provided by the Traverse des Sioux Library Cooperative\, thanks to a legislative appropriation from the arts and cultural heritage fund. \n 
URL:https://wasecalesueurlibraries.com/event/liberators-and-the-holocaust/
LOCATION:Le Sueur Public Library\, 118 Ferry St\, Le Sueur\, MN\, 56058\, United States
CATEGORIES:Adult Events,All ages
GEO:44.4601702;-93.9161364
X-APPLE-STRUCTURED-LOCATION;VALUE=URI;X-ADDRESS=Le Sueur Public Library 118 Ferry St Le Sueur MN 56058 United States;X-APPLE-RADIUS=500;X-TITLE=118 Ferry St:geo:-93.9161364,44.4601702
END:VEVENT
BEGIN:VEVENT
DTSTART;TZID=America/Chicago:20230914T140000
DTEND;TZID=America/Chicago:20230914T150000
DTSTAMP:20260424T151114
CREATED:20230908T211511Z
LAST-MODIFIED:20230908T211511Z
UID:10010322-1694700000-1694703600@wasecalesueurlibraries.com
SUMMARY:Spice Club
DESCRIPTION:Do you like to try new flavors and recipes? Each month we’ll feature a new spice and make it available in a small FREE take-home kit. Then we’ll meet up to learn more about the spice’s history and its uses. Plus we’ll share what everyone made with the spice. \nRegister now!
URL:https://wasecalesueurlibraries.com/event/spice-club-6/
LOCATION:Le Center Public Library\, 10 W Tyrone St\, Le Center\, MN\, 56057\, United States
CATEGORIES:Adult Events
GEO:44.3907505;-93.7316339
X-APPLE-STRUCTURED-LOCATION;VALUE=URI;X-ADDRESS=Le Center Public Library 10 W Tyrone St Le Center MN 56057 United States;X-APPLE-RADIUS=500;X-TITLE=10 W Tyrone St:geo:-93.7316339,44.3907505
END:VEVENT
BEGIN:VEVENT
DTSTART;TZID=America/Chicago:20230914T150000
DTEND;TZID=America/Chicago:20230914T160000
DTSTAMP:20260424T151114
CREATED:20230908T210240Z
LAST-MODIFIED:20230908T210240Z
UID:10008359-1694703600-1694707200@wasecalesueurlibraries.com
SUMMARY:Gerry G. Lenz
DESCRIPTION:Growing up\, Gerry Lentz was a Chechoslovakian farm boy who lived with his family\, some 200 roosters and over 500 chickens on a 160-acre home place in northeastern Iowa. Gerry shares his memories in this coming-of-age memoir. \nSponsored by Friends of the Janesville Public Library \n 
URL:https://wasecalesueurlibraries.com/event/gerry-g-lenz/
LOCATION:Janesville Public Library\, 100 W 2nd St\, Janesville\, MN\, 56048\, United States
CATEGORIES:Adult Events,Author Event
GEO:44.1173302;-93.7075406
X-APPLE-STRUCTURED-LOCATION;VALUE=URI;X-ADDRESS=Janesville Public Library 100 W 2nd St Janesville MN 56048 United States;X-APPLE-RADIUS=500;X-TITLE=100 W 2nd St:geo:-93.7075406,44.1173302
END:VEVENT
BEGIN:VEVENT
DTSTART;TZID=America/Chicago:20230914T153000
DTEND;TZID=America/Chicago:20230914T170000
DTSTAMP:20260424T151114
CREATED:20230911T205154Z
LAST-MODIFIED:20230911T205154Z
UID:10008383-1694705400-1694710800@wasecalesueurlibraries.com
SUMMARY:Back to School Crafts
DESCRIPTION:Celebrate the start of the new school year with a trio of crafts you can use at school! Geared for ages 8-12. \n 
URL:https://wasecalesueurlibraries.com/event/back-to-school-crafts-3/
LOCATION:Waseca Public Library\, 408 N State St\, Waseca\, MN\, 56093\, United States
CATEGORIES:Children's Events
GEO:44.0809183;-93.5069008
X-APPLE-STRUCTURED-LOCATION;VALUE=URI;X-ADDRESS=Waseca Public Library 408 N State St Waseca MN 56093 United States;X-APPLE-RADIUS=500;X-TITLE=408 N State St:geo:-93.5069008,44.0809183
END:VEVENT
END:VCALENDAR